BEGIN:VCALENDAR
VERSION:2.0
PRODID:-//Place to Be - ECPv6.9.0//NONSGML v1.0//EN
CALSCALE:GREGORIAN
METHOD:PUBLISH
X-WR-CALNAME:Place to Be
X-ORIGINAL-URL:https://www.place-to-be.net
X-WR-CALDESC:Évènements pour Place to Be
REFRESH-INTERVAL;VALUE=DURATION:PT1H
X-Robots-Tag:noindex
X-PUBLISHED-TTL:PT1H
BEGIN:VTIMEZONE
TZID:Europe/Paris
BEGIN:DAYLIGHT
TZOFFSETFROM:+0100
TZOFFSETTO:+0200
TZNAME:CEST
DTSTART:20260329T010000
END:DAYLIGHT
BEGIN:STANDARD
TZOFFSETFROM:+0200
TZOFFSETTO:+0100
TZNAME:CET
DTSTART:20261025T010000
END:STANDARD
END:VTIMEZONE
BEGIN:VEVENT
DTSTART;TZID=Europe/Paris:20260422T000000
DTEND;TZID=Europe/Paris:20260422T235959
DTSTAMP:20260422T014606
CREATED:20210422T063000Z
LAST-MODIFIED:20250504T010012Z
UID:1816540-1776816000-1776902399@www.place-to-be.net
SUMMARY:La Journée de la Terre
DESCRIPTION:Cet évènement a été célébré pour la première fois le 22 avril 1970. le Jour de la Terre est aujourd’hui reconnu comme l’événement environnemental populaire le plus important au monde. Le fondateur de cet événement est le sénateur Américain Gaylord Nelson. \n\n\n\nLa comptine de l’écologie
URL:https://www.place-to-be.net/evenement/la-journee-de-la-terre/
CATEGORIES:Green
ATTACH;FMTTYPE=image/jpeg:https://www.place-to-be.net/wp-content/uploads/2021/04/Journée-de-la-Terre.jpg
END:VEVENT
END:VCALENDAR